BEGIN:VCALENDAR
VERSION:2.0
PRODID:-//eventon.com NONSGML v1.0//EN
CALSCALE:GREGORIAN
METHOD:PUBLISH
BEGIN:VEVENT
UID:69e73c56427f1
DTSTAMP:20260421T085902Z
DTSTART:20241213T120000Z
DTEND:20241215T143000Z
LOCATION:Praxis Lalibella Drofbachstrasse 30 <br> 3098 Köniz bei Bern
SUMMARY:Ein Besinnungs- und Auszeitseminar zum "Er-innern" und Wiederfinden des Wesentlichen in (Selbst-)Begegnung"
DESCRIPTION:Ein Besinnungs- und Auszeitseminar zum &#8222;Er-innern&#8220; 
 und Wiederfinden des Wesentlichen in (Selbst-)Begegnung&#8220; mit Johannes
  Benedikt Schmidt Datum 2024: 13. &#8211; 15. Dezember\,  Freitag und Sonnt
 ag Subtile Begegnung mit mir und dir als Schlüssel zum wir In einer lauten
  Welt\,  mit digitaler Aufmerksamkeitsbindung\,  nimmt Einsamkeit und Bezie
 hungslosigkeit immer mehr Raum ein.[..]\nhttps://lalibella-seminare.ch/even
 ts/prozess-seminar-zur-anliegenbearbeitung/
URL:https://lalibella-seminare.ch/events/prozess-seminar-zur-anliegenbearbeitung/
END:VEVENT
END:VCALENDAR