BEGIN:VCALENDAR
VERSION:2.0
PRODID:-//eventon.com NONSGML v1.0//EN
CALSCALE:GREGORIAN
METHOD:PUBLISH
BEGIN:VEVENT
UID:69e7356f3422f
DTSTAMP:20260421T082935Z
DTSTART:20240920T110000Z
DTEND:20240922T133000Z
LOCATION:Praxis Lalibella Drofbachstrasse 30 <br> 3098 Köniz bei Bern
SUMMARY:INTEGRATIVES TRAUMATRAINING 2024 - Modul 4
DESCRIPTION:5 x 3-tägiges Traumatraining zur Lösung von Traumafolgestöru
 ngen\,  Resilienzaufbau und Selbstregulation des Behandlers Fortbildungslei
 ter: Johannes Benedikt Schmidt Das Verständnis und die Notwendigkeit für 
 die Behandlung von Traumafolgen sind in den letzten Jahren stark in den Fok
 us von Psychotherapie gerückt. Neben der Entwicklung vielfältiger theoret
 ischer Verständnisweisen zeigt sich die praktische Bedeutung[..]\nhttps://
 lalibella-seminare.ch/events/integratives-traumatraining-2023-modul-5/
URL:https://lalibella-seminare.ch/events/integratives-traumatraining-2023-modul-5/
END:VEVENT
END:VCALENDAR